Workbook
Name Основные_20результаты_20работы_202011_2012_20квартал: 'Республика Алтай 1'!$A$3:$E$34
Name Основные_20результаты_20работы_202011_2012_20квартал: 'Республика Алтай 2'!$A$1:$E$15
Name Основные_20результаты_20работы_202011_2012_20квартал: 'Республика Алтай 3'!$A$1:$E$15
Name Основные_20результаты_20работы_202011_2012_20квартал: 'Республика Алтай 4'!#REF!
Name Основные_20результаты_20работы_202011_2012_20квартал: 'Республика Алтай 5'!#REF!
Name Основные_20результаты_20работы_202011_2012_20квартал: 'Республика Алтай 6'!#REF!

Sheet Республика Алтай
A1: январь-май 2021
B3: Форма 556 раздел 01 стр.1 гр.1 | C3: - показатель АППГ | D3: Форма 556 раздел 01 стр.1 гр.2 | E3: - показатель АППГ | F3: Форма 556 раздел 01 стр.1 гр.3 | G3: - показатель АППГ | H3: Форма 556 раздел 01 стр.1 гр.4 | I3: - показатель АППГ | J3: Форма 556 раздел 01 стр.1 гр.5 | K3: - показатель АППГ | L3: Форма 556 раздел 01 стр.1 гр.6 | M3: - показатель АППГ | N3: Форма 556 раздел 01 стр.1 гр.7 | O3: - показатель АППГ | P3: Форма 556 раздел 01 стр.1 гр.8 | Q3: - показатель АППГ | R3: Форма 556 раздел 01 стр.1 гр.9 | S3: - показатель АППГ | T3: Форма 556 раздел 01 стр.1 гр.10 | U3: - показатель АППГ | V3: Форма 556 раздел 01 стр.1 гр.11 | W3: - показатель АППГ | X3: Форма 556 раздел 01 стр.2 гр.1 | Y3: - показатель АППГ | Z3: Форма 556 раздел 01 стр.2 гр.2 | AA3: - показатель АППГ | AB3: Форма 556 раздел 01 стр.2 гр.3 | AC3: - показатель АППГ | AD3: Форма 556 раздел 01 стр.2 гр.4 | AE3: - показатель АППГ | AF3: Форма 556 раздел 01 стр.2 гр.5 | AG3: - показатель АППГ | AH3: Форма 556 раздел 01 стр.2 гр.6 | AI3: - показатель АППГ | AJ3: Форма 556 раздел 01 стр.2 гр.7 | AK3: - показатель АППГ | AL3: Форма 556 раздел 01 стр.2 гр.8 | AM3: - показатель АППГ | AN3: Форма 556 раздел 01 стр.2 гр.9 | AO3: - показатель АППГ | AP3: Форма 556 раздел 01 стр.2 гр.10 | AQ3: - показатель АППГ | AR3: Форма 556 раздел 01 стр.2 гр.11 | AS3: - показатель АППГ
A4: Республика Алтай | B4: 13003 | C4: 10672 | D4: 1699 | E4: 1499 | F4: 1367 | G4: 1143 | H4: 1035 | I4: 1006 | J4: 914 | K4: 906 | L4: 2638 | M4: 2286 | N4: 1913 | O4: 1221 | P4: 386 | Q4: 303 | R4: 236 | S4: 155 | T4: 62 | U4: 43 | V4: 57 | W4: 37 | X4: 3634 | Y4: 3180 | Z4: 579 | AA4: 544 | AB4: 494 | AC4: 448 | AD4: 108 | AE4: 121 | AF4: 94 | AG4: 128 | AH4: 793 | AI4: 707 | AJ4: 427 | AK4: 344 | AL4: 27 | AM4: 44 | AN4: 73 | AO4: 52 | AP4: 8 | AQ4: 7 | AR4: 8 | AS4: 7

Sheet Республика Алтай 1
A1: Республика Алтай | B1: 14397 | C1: 13259 | D1: 2066 | E1: 1961 | F1: 51 | G1: 12 | H1: 341 | I1: 325 | J1: 144 | K1: 107 | L1: 27 | M1: 22 | N1: 40 | O1: 13 | P1: 0 | Q1: 0 | R1: 0 | S1: 0 | T1: 2261 | U1: 2016 | V1: 251 | W1: 210 | X1: 216 | Y1: 186 | Z1: 288 | AA1: 259 | AB1: 301 | AC1: 260 | AD1: 468 | AE1: 403 | AF1: 286 | AG1: 288 | AH1: 44 | AI1: 42 | AJ1: 14 | AK1: 5 | AL1: 7 | AM1: 4 | AN1: 7 | AO1: 4 | AP1: 4270 | AQ1: 4219 | AR1: 2769 | AS1: 2819 | AT1: 1501 | AU1: 1400 | AV1: 657 | AW1: 586 | AX1: 633 | AY1: 574 | AZ1: 16 | BA1: 13 | BB1: 17 | BC1: 11 | BD1: 119 | BE1: 105 | BF1: 219 | BG1: 198 | BH1: 131 | BI1: 116 | BJ1: 41 | BK1: 93 | BL1: 1590 | BM1: 1671 | BN1: 207 | BO1: 187 | BP1: 8 | BQ1: 14 | BR1: 272 | BS1: 263 | BT1: 118 | BU1: 1\1\208 | BV1: 1\1\209 | BW1: 1\1\210 | BX1: 1\1\211 | BY1: 1\1\212 | BZ1: 1\1\213 | CA1: 1\1\214 | CB1: 1\1\215 | CC1: 1\1\216 | CD1: 1\1\217 | CE1: 1\1\218 | CF1: 1\1\219 | CG1: 1\1\220 | CH1: 1\1\221 | CI1: 1\1\222 | CJ1: 1\1\223 | CK1: 1\1\224 | CL1: 1\1\225 | CM1: 1\1\226 | CN1: 1\1\227 | CO1: 1\1\228 | CP1: 1\1\229 | CQ1: 1\1\230 | CR1: 1\1\231 | CS1: 1\1\232 | CT1: 1\1\233 | CU1: 1\1\234 | CV1: 1\1\235 | CW1: 1\1\236 | CX1: 1\1\237 | CY1: 1\1\238 | CZ1: 1\1\239 | DA1: 1\1\240 | DB1: 1\1\241 | DC1: 1\1\242 | DD1: 1\1\243 | DE1: 1\1\244 | DF1: 1\1\245 | DG1: 1\1\246 | DH1: 1\1\247 | DI1: 1\1\248 | DJ1: 1\1\249 | DK1: 1\1\250 | DL1: 1\1\251 | DM1: 1\1\252 | DN1: 1\1\253 | DO1: 1\1\254 | DP1: 1\1\255 | DQ1: 1\1\256 | DR1: 1\1\257 | DS1: 1\1\258 | DT1: 1\1\259 | DU1: 1\1\260 | DV1: 1\1\261 | DW1: 1\1\262 | DX1: 1\1\263 | DY1: 1\1\264 | DZ1: 1\1\265 | EA1: 1\1\266 | EB1: 1\1\267 | EC1: 1\1\268 | ED1: 1\1\269 | EE1: 1\1\270 | EF1: 1\1\271 | EG1: 1\1\272
A3: Основные результаты прокурорской деятельности (ежемесячно) Приложение № 1
A4: ='Республика Алтай'!A1 -> январь-май 2021
A5: ='Республика Алтай'!A4 -> Республика Алтай
A7: Надзор за исполнением федерального законодательства (строка 1)
A8: Наименование показателя | C8: 2021 | D8: 2020 | E8: % (+;-)
A9: Выявлено нарушений закона | C9: ='Республика Алтай'!B4 -> 13003 | D9: ='Республика Алтай'!C4 -> 10672 | E9: =C9*100/D9-100 -> 21.842204
A10: Принесено протестов | C10: ='Республика Алтай'!D4 -> 1699 | D10: ='Республика Алтай'!E4 -> 1499 | E10: =C10*100/D10-100 -> 13.342228
A11: По удовлетворенным протестам отменено и изменено незаконных правовых актов | C11: ='Республика Алтай'!F4 -> 1367 | D11: ='Республика Алтай'!G4 -> 1143 | E11: =C11*100/D11-100 -> 19.59755
A12: Направлено исков, заявлений в суд | C12: ='Республика Алтай'!H4 -> 1035 | D12: ='Республика Алтай'!I4 -> 1006 | E12: =C12*100/D12-100 -> 2.8827038
A13: Удовлетворено исков и прекращено дел ввиду добровольного удовлетворения требований прокурора | C13: ='Республика Алтай'!J4 -> 914 | D13: ='Республика Алтай'!K4 -> 906 | E13: =C13*100/D13-100 -> 0.88300221
A14: Внесено представлений | C14: ='Республика Алтай'!L4 -> 2638 | D14: ='Республика Алтай'!M4 -> 2286 | E14: =C14*100/D14-100 -> 15.398075
A15: К дисциплинарной ответственности привлечено лиц | C15: ='Республика Алтай'!N4 -> 1913 | D15: ='Республика Алтай'!O4 -> 1221 | E15: =C15*100/D15-100 -> 56.674857
B16: удельный вес | C16: =C15/C14*100 -> 72.517058 | D16: =D15/D14*100 -> 53.412073 | E16: =C16*100/D16-100 -> 35.769038
A17: По постановлению прокурора привлечено лиц к административной ответственности | C17: ='Республика Алтай'!P4 -> 386 | D17: ='Республика Алтай'!Q4 -> 303 | E17: =C17*100/D17-100 -> 27.392739
A18: Предостережено лиц о недопустимости нарушения закона | C18: ='Республика Алтай'!R4 -> 236 | D18: ='Республика Алтай'!S4 -> 155 | E18: =C18*100/D18-100 -> 52.258065
A19: Направлено материалов для решения вопроса об уголовном преследовании в порядке п. 2 ч. 2 ст. 37 УПК РФ | C19: ='Республика Алтай'!T4 -> 62 | D19: ='Республика Алтай'!U4 -> 43 | E19: =C19*100/D19-100 -> 44.186047
A20: Возбуждено уголовных дел | C20: ='Республика Алтай'!V4 -> 57 | D20: ='Республика Алтай'!W4 -> 37 | E20: =C20*100/D20-100 -> 54.054054
A21: Надзор за исполнением законов в сфере экономики (строка 2)
A22: Наименование показателя | C22: 2021 | D22: 2020 | E22: % (+;-)
A23: Выявлено нарушений закона | C23: ='Республика Алтай'!X4 -> 3634 | D23: ='Республика Алтай'!Y4 -> 3180 | E23: =C23*100/D23-100 -> 14.27673
A24: Принесено протестов | C24: ='Республика Алтай'!Z4 -> 579 | D24: ='Республика Алтай'!AA4 -> 544 | E24: =C24*100/D24-100 -> 6.4338235
A25: По удовлетворенным протестам отменено и изменено незаконных правовых актов | C25: ='Республика Алтай'!AB4 -> 494 | D25: ='Республика Алтай'!AC4 -> 448 | E25: =C25*100/D25-100 -> 10.267857
A26: Направлено исков, заявлений в суд | C26: ='Республика Алтай'!AD4 -> 108 | D26: ='Республика Алтай'!AE4 -> 121 | E26: =C26*100/D26-100 -> -10.743802
A27: Удовлетворено исков и прекращено дел ввиду добровольного удовлетворения требований прокурора | C27: ='Республика Алтай'!AF4 -> 94 | D27: ='Республика Алтай'!AG4 -> 128 | E27: =C27*100/D27-100 -> -26.5625
A28: Внесено представлений | C28: ='Республика Алтай'!AH4 -> 793 | D28: ='Республика Алтай'!AI4 -> 707 | E28: =C28*100/D28-100 -> 12.164074
A29: К дисциплинарной ответственности привлечено лиц | C29: ='Республика Алтай'!AJ4 -> 427 | D29: ='Республика Алтай'!AK4 -> 344 | E29: =C29*100/D29-100 -> 24.127907
B30: удельный вес | C30: =C29/C28*100 -> 53.846154 | D30: =D29/D28*100 -> 48.656294 | E30: =C30*100/D30-100 -> 10.666369
A31: По постановлению прокурора привлечено лиц к административной ответственности | C31: ='Республика Алтай'!AL4 -> 27 | D31: ='Республика Алтай'!AM4 -> 44 | E31: =C31*100/D31-100 -> -38.636364
A32: Предостережено лиц о недопустимости нарушения закона | C32: ='Республика Алтай'!AN4 -> 73 | D32: ='Республика Алтай'!AO4 -> 52 | E32: =C32*100/D32-100 -> 40.384615
A33: Направлено материалов для решения вопроса об уголовном преследовании в порядке п. 2 ч. 2 ст. 37 УПК РФ | C33: ='Республика Алтай'!AP4 -> 8 | D33: ='Республика Алтай'!AQ4 -> 7 | E33: =C33*100/D33-100 -> 14.285714
A34: Возбуждено уголовных дел | C34: ='Республика Алтай'!AR4 -> 8 | D34: ='Республика Алтай'!AS4 -> 7 | E34: =C34*100/D34-100 -> 14.285714

Sheet Республика Алтай (2)
A1: январь-май 2021
B3: Форма 556 раздел 01 стр.7 гр.1 | C3: - показатель АППГ | D3: Форма 556 раздел 01 стр.7 гр.2 | E3: - показатель АППГ | F3: Форма 556 раздел 01 стр.7 гр.3 | G3: - показатель АППГ | H3: Форма 556 раздел 01 стр.7 гр.4 | I3: - показатель АППГ | J3: Форма 556 раздел 01 стр.7 гр.5 | K3: - показатель АППГ | L3: Форма 556 раздел 01 стр.7 гр.6 | M3: - показатель АППГ | N3: Форма 556 раздел 01 стр.7 гр.7 | O3: - показатель АППГ | P3: Форма 556 раздел 01 стр.7 гр.8 | Q3: - показатель АППГ | R3: Форма 556 раздел 01 стр.7 гр.9 | S3: - показатель АППГ | T3: Форма 556 раздел 01 стр.7 гр.10 | U3: - показатель АППГ | V3: Форма 556 раздел 01 стр.7 гр.11 | W3: - показатель АППГ
A4: Республика Алтай | B4: 1478 | C4: 1209 | D4: 77 | E4: 81 | F4: 63 | G4: 42 | H4: 141 | I4: 104 | J4: 133 | K4: 84 | L4: 403 | M4: 350 | N4: 251 | O4: 119 | P4: 50 | Q4: 43 | R4: 44 | S4: 23 | T4: 11 | U4: 22 | V4: 12 | W4: 17

Sheet Республика Алтай 2
A1: ='Республика Алтай (2)'!A1 -> январь-май 2021
A2: Надзор в сфере охраны окружающей среды и природопользования (строка 7)
A3: Наименование показателя | C3: 2021 | D3: 2020 | E3: % (+;-)
A4: Выявлено нарушений закона | C4: ='Республика Алтай (2)'!B4 -> 1478 | D4: ='Республика Алтай (2)'!C4 -> 1209 | E4: =C4*100/D4-100 -> 22.249793
A5: Принесено протестов | C5: ='Республика Алтай (2)'!D4 -> 77 | D5: ='Республика Алтай (2)'!E4 -> 81 | E5: =C5*100/D5-100 -> -4.9382716
A6: По удовлетворенным протестам отменено и изменено незаконных правовых актов | C6: ='Республика Алтай (2)'!F4 -> 63 | D6: ='Республика Алтай (2)'!G4 -> 42 | E6: =C6*100/D6-100 -> 50
A7: Направлено исков, заявлений в суд | C7: ='Республика Алтай (2)'!H4 -> 141 | D7: ='Республика Алтай (2)'!I4 -> 104 | E7: =C7*100/D7-100 -> 35.576923
A8: Удовлетворено исков и прекращено дел ввиду добровольного удовлетворения требований прокурора | C8: ='Республика Алтай (2)'!J4 -> 133 | D8: ='Республика Алтай (2)'!K4 -> 84 | E8: =C8*100/D8-100 -> 58.333333
A9: Внесено представлений | C9: ='Республика Алтай (2)'!L4 -> 403 | D9: ='Республика Алтай (2)'!M4 -> 350 | E9: =C9*100/D9-100 -> 15.142857
A10: К дисциплинарной ответственности привлечено лиц | C10: ='Республика Алтай (2)'!N4 -> 251 | D10: ='Республика Алтай (2)'!O4 -> 119 | E10: =C10*100/D10-100 -> 110.92437
B11: удельный вес | C11: =C10/C9*100 -> 62.282878 | D11: =D10/D9*100 -> 34 | E11: =C11*100/D11-100 -> 83.184937
A12: По постановлению прокурора привлечено лиц к административной ответственности | C12: ='Республика Алтай (2)'!P4 -> 50 | D12: ='Республика Алтай (2)'!Q4 -> 43 | E12: =C12*100/D12-100 -> 16.27907
A13: Предостережено лиц о недопустимости нарушения закона | C13: ='Республика Алтай (2)'!R4 -> 44 | D13: ='Республика Алтай (2)'!S4 -> 23 | E13: =C13*100/D13-100 -> 91.304348
A14: Направлено материалов для решения вопроса об уголовном преследовании в порядке п. 2 ч. 2 ст. 37 УПК РФ | C14: ='Республика Алтай (2)'!T4 -> 11 | D14: ='Республика Алтай (2)'!U4 -> 22 | E14: =C14*100/D14-100 -> -50
A15: Возбуждено уголовных дел | C15: ='Республика Алтай (2)'!V4 -> 12 | D15: ='Республика Алтай (2)'!W4 -> 17 | E15: =C15*100/D15-100 -> -29.411765

Sheet Республика Алтай (3)
A1: январь-май 2021
B3: Форма 556 раздел 01 стр.8 гр.1 | C3: - показатель АППГ | D3: Форма 556 раздел 01 стр.8 гр.2 | E3: - показатель АППГ | F3: Форма 556 раздел 01 стр.8 гр.3 | G3: - показатель АППГ | H3: Форма 556 раздел 01 стр.8 гр.4 | I3: - показатель АППГ | J3: Форма 556 раздел 01 стр.8 гр.5 | K3: - показатель АППГ | L3: Форма 556 раздел 01 стр.8 гр.6 | M3: - показатель АППГ | N3: Форма 556 раздел 01 стр.8 гр.7 | O3: - показатель АППГ | P3: Форма 556 раздел 01 стр.8 гр.8 | Q3: - показатель АППГ | R3: Форма 556 раздел 01 стр.8 гр.9 | S3: - показатель АППГ | T3: Форма 556 раздел 01 стр.8 гр.10 | U3: - показатель АППГ | V3: Форма 556 раздел 01 стр.8 гр.11 | W3: - показатель АППГ | X3: Форма 556 раздел 01 стр.10 гр.1 | Y3: - показатель АППГ | Z3: Форма 556 раздел 01 стр.10 гр.2 | AA3: - показатель АППГ | AB3: Форма 556 раздел 01 стр.10 гр.3 | AC3: - показатель АППГ | AD3: Форма 556 раздел 01 стр.10 гр.4 | AE3: - показатель АППГ | AF3: Форма 556 раздел 01 стр.10 гр.5 | AG3: - показатель АППГ | AH3: Форма 556 раздел 01 стр.10 гр.6 | AI3: - показатель АППГ | AJ3: Форма 556 раздел 01 стр.10 гр.7 | AK3: - показатель АППГ | AL3: Форма 556 раздел 01 стр.10 гр.8 | AM3: - показатель АППГ | AN3: Форма 556 раздел 01 стр.10 гр.9 | AO3: - показатель АППГ | AP3: Форма 556 раздел 01 стр.10 гр.10 | AQ3: - показатель АППГ | AR3: Форма 556 раздел 01 стр.10 гр.11 | AS3: - показатель АППГ | AT3: Форма 556 раздел 01 стр.17 гр.1 | AU3: - показатель АППГ | AV3: Форма 556 раздел 01 стр.17 гр.2 | AW3: - показатель АППГ | AX3: Форма 556 раздел 01 стр.17 гр.3 | AY3: - показатель АППГ | AZ3: Форма 556 раздел 01 стр.17 гр.4 | BA3: - показатель АППГ | BB3: Форма 556 раздел 01 стр.17 гр.5 | BC3: - показатель АППГ | BD3: Форма 556 раздел 01 стр.17 гр.6 | BE3: - показатель АППГ | BF3: Форма 556 раздел 01 стр.17 гр.7 | BG3: - показатель АППГ | BH3: Форма 556 раздел 01 стр.17 гр.8 | BI3: - показатель АППГ | BJ3: Форма 556 раздел 01 стр.17 гр.9 | BK3: - показатель АППГ | BL3: Форма 556 раздел 01 стр.17 гр.10 | BM3: - показатель АППГ | BN3: Форма 556 раздел 01 стр.17 гр.11 | BO3: - показатель АППГ
A4: Республика Алтай | B4: 6868 | C4: 5536 | D4: 876 | E4: 716 | F4: 683 | G4: 514 | H4: 731 | I4: 756 | J4: 668 | K4: 681 | L4: 1258 | M4: 1047 | N4: 979 | O4: 589 | P4: 285 | Q4: 183 | R4: 114 | S4: 79 | T4: 11 | U4: 8 | V4: 11 | W4: 7 | X4: 526 | Y4: 377 | Z4: 122 | AA4: 42 | AB4: 74 | AC4: 37 | AD4: 114 | AE4: 130 | AF4: 161 | AG4: 127 | AH4: 79 | AI4: 68 | AJ4: 46 | AK4: 23 | AL4: 24 | AM4: 16 | AN4: 13 | AO4: 6 | AP4: 0 | AQ4: 0 | AR4: 0 | AS4: 0 | AT4: 1137 | AU4: 1030 | AV4: 58 | AW4: 30 | AX4: 55 | AY4: 35 | AZ4: 93 | BA4: 100 | BB4: 69 | BC4: 53 | BD4: 448 | BE4: 380 | BF4: 237 | BG4: 159 | BH4: 54 | BI4: 62 | BJ4: 51 | BK4: 46 | BL4: 1 | BM4: 0 | BN4: 1 | BO4: 0

Sheet Республика Алтай 3
A1: ='Республика Алтай (3)'!A1 -> январь-май 2021
A2: Надзор за соблюдением прав и свобод человека и гражданина (строка 8)
A3: Наименование показателя | C3: 2021 | D3: 2020 | E3: % (+;-)
A4: Выявлено нарушений закона | C4: ='Республика Алтай (3)'!B4 -> 6868 | D4: ='Республика Алтай (3)'!C4 -> 5536 | E4: =C4*100/D4-100 -> 24.060694
A5: Принесено протестов | C5: ='Республика Алтай (3)'!D4 -> 876 | D5: ='Республика Алтай (3)'!E4 -> 716 | E5: =C5*100/D5-100 -> 22.346369
A6: По удовлетворенным протестам отменено и изменено незаконных правовых актов | C6: ='Республика Алтай (3)'!F4 -> 683 | D6: ='Республика Алтай (3)'!G4 -> 514 | E6: =C6*100/D6-100 -> 32.879377
A7: Направлено исков, заявлений в суд | C7: ='Республика Алтай (3)'!H4 -> 731 | D7: ='Республика Алтай (3)'!I4 -> 756 | E7: =C7*100/D7-100 -> -3.3068783
A8: Удовлетворено исков и прекращено дел ввиду добровольного удовлетворения требований прокурора | C8: ='Республика Алтай (3)'!J4 -> 668 | D8: ='Республика Алтай (3)'!K4 -> 681 | E8: =C8*100/D8-100 -> -1.9089574
A9: Внесено представлений | C9: ='Республика Алтай (3)'!L4 -> 1258 | D9: ='Республика Алтай (3)'!M4 -> 1047 | E9: =C9*100/D9-100 -> 20.152818
A10: К дисциплинарной ответственности привлечено лиц | C10: ='Республика Алтай (3)'!N4 -> 979 | D10: ='Республика Алтай (3)'!O4 -> 589 | E10: =C10*100/D10-100 -> 66.213922
B11: удельный вес | C11: =C10/C9*100 -> 77.82194 | D11: =D10/D9*100 -> 56.255969 | E11: =C11*100/D11-100 -> 38.335434
A12: По постановлению прокурора привлечено лиц к административной ответственности | C12: ='Республика Алтай (3)'!P4 -> 285 | D12: ='Республика Алтай (3)'!Q4 -> 183 | E12: =C12*100/D12-100 -> 55.737705
A13: Предостережено лиц о недопустимости нарушения закона | C13: ='Республика Алтай (3)'!R4 -> 114 | D13: ='Республика Алтай (3)'!S4 -> 79 | E13: =C13*100/D13-100 -> 44.303797
A14: Направлено материалов для решения вопроса об уголовном преследовании в порядке п. 2 ч. 2 ст. 37 УПК РФ | C14: ='Республика Алтай (3)'!T4 -> 11 | D14: ='Республика Алтай (3)'!U4 -> 8 | E14: =C14*100/D14-100 -> 37.5
A15: Возбуждено уголовных дел | C15: ='Республика Алтай (3)'!V4 -> 11 | D15: ='Республика Алтай (3)'!W4 -> 7 | E15: =C15*100/D15-100 -> 57.142857
A16: Надзор в сфере оплаты труда (строка 10)
A17: Наименование показателя | C17: 2021 | D17: 2020 | E17: % (+;-)
A18: Выявлено нарушений закона | C18: ='Республика Алтай (3)'!X4 -> 526 | D18: ='Республика Алтай (3)'!Y4 -> 377 | E18: =C18*100/D18-100 -> 39.522546
A19: Принесено протестов | C19: ='Республика Алтай (3)'!Z4 -> 122 | D19: ='Республика Алтай (3)'!AA4 -> 42 | E19: =C19*100/D19-100 -> 190.47619
A20: По удовлетворенным протестам отменено и изменено незаконных правовых актов | C20: ='Республика Алтай (3)'!AB4 -> 74 | D20: ='Республика Алтай (3)'!AC4 -> 37 | E20: =C20*100/D20-100 -> 100
A21: Направлено исков, заявлений в суд | C21: ='Республика Алтай (3)'!AD4 -> 114 | D21: ='Республика Алтай (3)'!AE4 -> 130 | E21: =C21*100/D21-100 -> -12.307692
A22: Удовлетворено исков и прекращено дел ввиду добровольного удовлетворения требований прокурора | C22: ='Республика Алтай (3)'!AF4 -> 161 | D22: ='Республика Алтай (3)'!AG4 -> 127 | E22: =C22*100/D22-100 -> 26.771654
A23: Внесено представлений | C23: ='Республика Алтай (3)'!AH4 -> 79 | D23: ='Республика Алтай (3)'!AI4 -> 68 | E23: =C23*100/D23-100 -> 16.176471
A24: К дисциплинарной ответственности привлечено лиц | C24: ='Республика Алтай (3)'!AJ4 -> 46 | D24: ='Республика Алтай (3)'!AK4 -> 23 | E24: =C24*100/D24-100 -> 100
B25: удельный вес | C25: =C24/C23*100 -> 58.227848 | D25: =D24/D23*100 -> 33.823529 | E25: =C25*100/D25-100 -> 72.151899
A26: По постановлению прокурора привлечено лиц к административной ответственности | C26: ='Республика Алтай (3)'!AL4 -> 24 | D26: ='Республика Алтай (3)'!AM4 -> 16 | E26: =C26*100/D26-100 -> 50
A27: Предостережено лиц о недопустимости нарушения закона | C27: ='Республика Алтай (3)'!AN4 -> 13 | D27: ='Республика Алтай (3)'!AO4 -> 6 | E27: =C27*100/D27-100 -> 116.66667
A28: Направлено материалов для решения вопроса об уголовном преследовании в порядке п. 2 ч. 2 ст. 37 УПК РФ | C28: ='Республика Алтай (3)'!AP4 -> 0 | D28: ='Республика Алтай (3)'!AQ4 -> 0 | E28: ***
A29: Возбуждено уголовных дел | C29: ='Республика Алтай (3)'!AR4 -> 0 | D29: ='Республика Алтай (3)'!AS4 -> 0 | E29: ***
A30: Надзор в сфере ЖКХ (строка 17)
A31: Наименование показателя | C31: 2021 | D31: 2020 | E31: % (+;-)
A32: Выявлено нарушений закона | C32: ='Республика Алтай (3)'!AT4 -> 1137 | D32: ='Республика Алтай (3)'!AU4 -> 1030 | E32: =C32*100/D32-100 -> 10.38835
A33: Принесено протестов | C33: ='Республика Алтай (3)'!AV4 -> 58 | D33: ='Республика Алтай (3)'!AW4 -> 30 | E33: =C33*100/D33-100 -> 93.333333
A34: По удовлетворенным протестам отменено и изменено незаконных правовых актов | C34: ='Республика Алтай (3)'!AX4 -> 55 | D34: ='Республика Алтай (3)'!AY4 -> 35 | E34: =C34*100/D34-100 -> 57.142857
A35: Направлено исков, заявлений в суд | C35: ='Республика Алтай (3)'!AZ4 -> 93 | D35: ='Республика Алтай (3)'!BA4 -> 100 | E35: =C35*100/D35-100 -> -7
A36: Удовлетворено исков и прекращено дел ввиду добровольного удовлетворения требований прокурора | C36: ='Республика Алтай (3)'!BB4 -> 69 | D36: ='Республика Алтай (3)'!BC4 -> 53 | E36: =C36*100/D36-100 -> 30.188679
A37: Внесено представлений | C37: ='Республика Алтай (3)'!BD4 -> 448 | D37: ='Республика Алтай (3)'!BE4 -> 380 | E37: =C37*100/D37-100 -> 17.894737
A38: К дисциплинарной ответственности привлечено лиц | C38: ='Республика Алтай (3)'!BF4 -> 237 | D38: ='Республика Алтай (3)'!BG4 -> 159 | E38: =C38*100/D38-100 -> 49.056604
B39: удельный вес | C39: =C38/C37*100 -> 52.901786 | D39: =D38/D37*100 -> 41.842105 | E39: =C39*100/D39-100 -> 26.431941
A40: По постановлению прокурора привлечено лиц к административной ответственности | C40: ='Республика Алтай (3)'!BH4 -> 54 | D40: ='Республика Алтай (3)'!BI4 -> 62 | E40: =C40*100/D40-100 -> -12.903226
...

Sheet Республика Алтай (4)
A1: январь-май 2021
B3: Форма 556 раздел 01 стр.15 гр.1 | C3: - показатель АППГ | D3: Форма 556 раздел 01 стр.15 гр.2 | E3: - показатель АППГ | F3: Форма 556 раздел 01 стр.15 гр.3 | G3: - показатель АППГ | H3: Форма 556 раздел 01 стр.15 гр.4 | I3: - показатель АППГ | J3: Форма 556 раздел 01 стр.15 гр.5 | K3: - показатель АППГ | L3: Форма 556 раздел 01 стр.15 гр.6 | M3: - показатель АППГ | N3: Форма 556 раздел 01 стр.15 гр.7 | O3: - показатель АППГ | P3: Форма 556 раздел 01 стр.15 гр.8 | Q3: - показатель АППГ | R3: Форма 556 раздел 01 стр.15 гр.9 | S3: - показатель АППГ | T3: Форма 556 раздел 01 стр.15 гр.10 | U3: - показатель АППГ | V3: Форма 556 раздел 01 стр.15 гр.11 | W3: - показатель АППГ | X3: Форма 556 раздел 01 стр.16 гр.1 | Y3: - показатель АППГ | Z3: Форма 556 раздел 01 стр.16 гр.2 | AA3: - показатель АППГ | AB3: Форма 556 раздел 01 стр.16 гр.3 | AC3: - показатель АППГ | AD3: Форма 556 раздел 01 стр.16 гр.4 | AE3: - показатель АППГ | AF3: Форма 556 раздел 01 стр.16 гр.5 | AG3: - показатель АППГ | AH3: Форма 556 раздел 01 стр.16 гр.6 | AI3: - показатель АППГ | AJ3: Форма 556 раздел 01 стр.16 гр.7 | AK3: - показатель АППГ | AL3: Форма 556 раздел 01 стр.16 гр.8 | AM3: - показатель АППГ | AN3: Форма 556 раздел 01 стр.16 гр.9 | AO3: - показатель АППГ | AP3: Форма 556 раздел 01 стр.16 гр.10 | AQ3: - показатель АППГ | AR3: Форма 556 раздел 01 стр.16 гр.11 | AS3: - показатель АППГ
A4: Республика Алтай | B4: 1555 | C4: 1075 | D4: 221 | E4: 202 | F4: 154 | G4: 178 | H4: 18 | I4: 17 | J4: 38 | K4: 35 | L4: 313 | M4: 258 | N4: 148 | O4: 103 | P4: 25 | Q4: 16 | R4: 43 | S4: 38 | T4: 1 | U4: 0 | V4: 2 | W4: 0 | X4: 2152 | Y4: 1836 | Z4: 199 | AA4: 208 | AB4: 161 | AC4: 144 | AD4: 247 | AE4: 206 | AF4: 227 | AG4: 190 | AH4: 450 | AI4: 379 | AJ4: 428 | AK4: 249 | AL4: 34 | AM4: 27 | AN4: 20 | AO4: 11 | AP4: 7 | AQ4: 5 | AR4: 7 | AS4: 5

Sheet Республика Алтай 4
A1: ='Республика Алтай (4)'!A1 -> январь-май 2021
A2: Надзор в сфере защиты прав предпринимателей (строка 15)
A3: Наименование показателя | C3: 2021 | D3: 2020 | E3: % (+;-)
A4: Выявлено нарушений закона | C4: ='Республика Алтай (4)'!B4 -> 1555 | D4: ='Республика Алтай (4)'!C4 -> 1075 | E4: =C4*100/D4-100 -> 44.651163
A5: Принесено протестов | C5: ='Республика Алтай (4)'!D4 -> 221 | D5: ='Республика Алтай (4)'!E4 -> 202 | E5: =C5*100/D5-100 -> 9.4059406
A6: По удовлетворенным протестам отменено и изменено незаконных правовых актов | C6: ='Республика Алтай (4)'!F4 -> 154 | D6: ='Республика Алтай (4)'!G4 -> 178 | E6: =C6*100/D6-100 -> -13.483146
A7: Направлено исков, заявлений в суд | C7: ='Республика Алтай (4)'!H4 -> 18 | D7: ='Республика Алтай (4)'!I4 -> 17 | E7: =C7*100/D7-100 -> 5.8823529
A8: Удовлетворено исков и прекращено дел ввиду добровольного удовлетворения требований прокурора | C8: ='Республика Алтай (4)'!J4 -> 38 | D8: ='Республика Алтай (4)'!K4 -> 35 | E8: =C8*100/D8-100 -> 8.5714286
A9: Внесено представлений | C9: ='Республика Алтай (4)'!L4 -> 313 | D9: ='Республика Алтай (4)'!M4 -> 258 | E9: =C9*100/D9-100 -> 21.317829
A10: К дисциплинарной ответственности привлечено лиц | C10: ='Республика Алтай (4)'!N4 -> 148 | D10: ='Республика Алтай (4)'!O4 -> 103 | E10: =C10*100/D10-100 -> 43.68932
B11: удельный вес | C11: =C10/C9*100 -> 47.284345 | D11: =D10/D9*100 -> 39.922481 | E11: =C11*100/D11-100 -> 18.440398
A12: По постановлению прокурора привлечено лиц к административной ответственности | C12: ='Республика Алтай (4)'!P4 -> 25 | D12: ='Республика Алтай (4)'!Q4 -> 16 | E12: =C12*100/D12-100 -> 56.25
A13: Предостережено лиц о недопустимости нарушения закона | C13: ='Республика Алтай (4)'!R4 -> 43 | D13: ='Республика Алтай (4)'!S4 -> 38 | E13: =C13*100/D13-100 -> 13.157895
A14: Направлено материалов для решения вопроса об уголовном преследовании в порядке п. 2 ч. 2 ст. 37 УПК РФ | C14: ='Республика Алтай (4)'!T4 -> 1 | D14: ='Республика Алтай (4)'!U4 -> 0 | E14: ***
A15: Возбуждено уголовных дел | C15: ='Республика Алтай (4)'!V4 -> 2 | D15: ='Республика Алтай (4)'!W4 -> 0 | E15: ***
A17: Надзор в сфере защиты прав несовершеннолетних (строка 16)
A18: Наименование показателя | C18: 2021 | D18: 2020 | E18: % (+;-)
A19: Выявлено нарушений закона | C19: ='Республика Алтай (4)'!X4 -> 2152 | D19: ='Республика Алтай (4)'!Y4 -> 1836 | E19: =C19*100/D19-100 -> 17.211329
A20: Принесено протестов | C20: ='Республика Алтай (4)'!Z4 -> 199 | D20: ='Республика Алтай (4)'!AA4 -> 208 | E20: =C20*100/D20-100 -> -4.3269231
A21: По удовлетворенным протестам отменено и изменено незаконных правовых актов | C21: ='Республика Алтай (4)'!AB4 -> 161 | D21: ='Республика Алтай (4)'!AC4 -> 144 | E21: =C21*100/D21-100 -> 11.805556
A22: Направлено исков, заявлений в суд | C22: ='Республика Алтай (4)'!AD4 -> 247 | D22: ='Республика Алтай (4)'!AE4 -> 206 | E22: =C22*100/D22-100 -> 19.902913
A23: Удовлетворено исков и прекращено дел ввиду добровольного удовлетворения требований прокурора | C23: ='Республика Алтай (4)'!AF4 -> 227 | D23: ='Республика Алтай (4)'!AG4 -> 190 | E23: =C23*100/D23-100 -> 19.473684
A24: Внесено представлений | C24: ='Республика Алтай (4)'!AH4 -> 450 | D24: ='Республика Алтай (4)'!AI4 -> 379 | E24: =C24*100/D24-100 -> 18.733509
A25: К дисциплинарной ответственности привлечено лиц | C25: ='Республика Алтай (4)'!AJ4 -> 428 | D25: ='Республика Алтай (4)'!AK4 -> 249 | E25: =C25*100/D25-100 -> 71.88755
B26: удельный вес | C26: =C25/C24*100 -> 95.111111 | D26: =D25/D24*100 -> 65.699208 | E26: =C26*100/D26-100 -> 44.767515
A27: По постановлению прокурора привлечено лиц к административной ответственности | C27: ='Республика Алтай (4)'!AL4 -> 34 | D27: ='Республика Алтай (4)'!AM4 -> 27 | E27: =C27*100/D27-100 -> 25.925926
A28: Предостережено лиц о недопустимости нарушения закона | C28: ='Республика Алтай (4)'!AN4 -> 20 | D28: ='Республика Алтай (4)'!AO4 -> 11 | E28: =C28*100/D28-100 -> 81.818182
A29: Направлено материалов для решения вопроса об уголовном преследовании в порядке п. 2 ч. 2 ст. 37 УПК РФ | C29: ='Республика Алтай (4)'!AP4 -> 7 | D29: ='Республика Алтай (4)'!AQ4 -> 5 | E29: =C29*100/D29-100 -> 40
A30: Возбуждено уголовных дел | C30: ='Республика Алтай (4)'!AR4 -> 7 | D30: ='Республика Алтай (4)'!AS4 -> 5 | E30: =C30*100/D30-100 -> 40

Sheet Республика Алтай (5)
A1: январь-май 2021
B3: Форма 556 раздел 02 стр.1 гр.1 | C3: - показатель АППГ | D3: Форма 556 раздел 02 стр.2 гр.1 | E3: - показатель АППГ | F3: Форма 556 раздел 02 стр.4 гр.1 | G3: - показатель АППГ | H3: Форма 556 раздел 02 стр.5 гр.1 | I3: - показатель АППГ | J3: Форма 556 раздел 02 стр.8 гр.1 | K3: - показатель АППГ | L3: Форма 556 раздел 02 стр.9 гр.1 | M3: - показатель АППГ | N3: Форма 556 раздел 02 стр.10 гр.1 | O3: - показатель АППГ | P3: Форма 556 раздел 02 стр.11 гр.1 | Q3: - показатель АППГ | R3: Форма 556 раздел 02 стр.12 гр.1 | S3: - показатель АППГ | T3: Форма 556 раздел 02 стр.14 гр.1 | U3: - показатель АППГ | V3: Форма 556 раздел 02 стр.15 гр.1 | W3: - показатель АППГ | X3: Форма 556 раздел 03 стр.1 гр.1 | Y3: - показатель АППГ | Z3: Форма 556 раздел 03 стр.2 гр.1 | AA3: - показатель АППГ | AB3: Форма 556 раздел 03 стр.3 гр.1 | AC3: - показатель АППГ | AD3: Форма 556 раздел 03 стр.4 гр.1 | AE3: - показатель АППГ | AF3: Форма 556 раздел 03 стр.5 гр.1 | AG3: - показатель АППГ | AH3: Форма 556 раздел 03 стр.6 гр.1 | AI3: - показатель АППГ
A4: Республика Алтай | B4: 3209 | C4: 2905 | D4: 2001 | E4: 1895 | F4: 565 | G4: 503 | H4: 527 | I4: 464 | J4: 104 | K4: 80 | L4: 160 | M4: 141 | N4: 123 | O4: 100 | P4: 6 | Q4: 41 | R4: 1013 | S4: 1156 | T4: 64 | U4: 4 | V4: 167 | W4: 182 | X4: 82 | Y4: 72 | Z4: 187 | AA4: 177 | AB4: 17 | AC4: 18 | AD4: 48 | AE4: 44 | AF4: 36 | AG4: 41 | AH4: 2 | AI4: 3

Sheet Республика Алтай 5
A1: ='Республика Алтай (5)'!A1 -> январь-май 2021
A2: Надзор за исполнением законов на досудебной стадии уголовного судопроизводства
A3: Наименование показателя | C3: 2021 | D3: 2020 | E3: % (+;-)
A4: Всего выявлено нарушений законов | C4: ='Республика Алтай (5)'!B4 -> 3209 | D4: ='Республика Алтай (5)'!C4 -> 2905 | E4: =C4*100/D4-100 -> 10.464716
A5: В том числе при приеме, регистрации и рассмотрении сообщений о преступлении | C5: ='Республика Алтай (5)'!D4 -> 2001 | D5: ='Республика Алтай (5)'!E4 -> 1895 | E5: =C5*100/D5-100 -> 5.5936675
A6: Направлено требований об устранении нарушений законодательства в порядке п. 3 ч. 2 ст. 37 УПК РФ | C6: ='Республика Алтай (5)'!F4 -> 565 | D6: ='Республика Алтай (5)'!G4 -> 503 | E6: =C6*100/D6-100 -> 12.326044
A7: Удовлетворено требований об устранении нарушений законодательства в порядке п. 3 ч. 2 ст. 37 УПК РФ | C7: ='Республика Алтай (5)'!H4 -> 527 | D7: ='Республика Алтай (5)'!I4 -> 464 | E7: =C7*100/D7-100 -> 13.577586
A8: Внесено представлений и информаций об устранении нарушений | C8: ='Республика Алтай (5)'!J4 -> 104 | D8: ='Республика Алтай (5)'!K4 -> 80 | E8: =C8*100/D8-100 -> 30
A9: Привлечено лиц к дисциплинарной ответственности | C9: ='Республика Алтай (5)'!L4 -> 160 | D9: ='Республика Алтай (5)'!M4 -> 141 | E9: =C9*100/D9-100 -> 13.475177
B10: удельный вес | C10: =C9/C8*100 -> 153.84615 | D10: =D9/D8*100 -> 176.25 | E10: =C10*100/D10-100 -> -12.711402
A11: Поставлено на учет по инициативе прокурора престпулений, ранее известных, но по различным причинам не учтенным | C11: ='Республика Алтай (5)'!N4 -> 123 | D11: ='Республика Алтай (5)'!O4 -> 100 | E11: =C11*100/D11-100 -> 23
A12: Отменено постановлений следователей и дознавателей о возбуждении уголовного дела | C12: ='Республика Алтай (5)'!P4 -> 6 | D12: ='Республика Алтай (5)'!Q4 -> 41 | E12: =C12*100/D12-100 -> -85.365854
A13: Отменено прокурором постановлений об отказе в возбуждении уголовного дела | C13: ='Республика Алтай (5)'!R4 -> 1013 | D13: ='Республика Алтай (5)'!S4 -> 1156 | E13: =C13*100/D13-100 -> -12.370242
A14: Отменено постановлений о прекращении уголовного дела (уголовного преследования) | C14: ='Республика Алтай (5)'!T4 -> 64 | D14: ='Республика Алтай (5)'!U4 -> 4 | E14: =C14*100/D14-100 -> 1500
A15: Отменено прокурором постановлений о приостановлении предварительного расследования | C15: ='Республика Алтай (5)'!V4 -> 167 | D15: ='Республика Алтай (5)'!W4 -> 182 | E15: =C15*100/D15-100 -> -8.2417582
A16: Надзор за законностью исполнения уголовных наказаний
A17: Наименование показателя | C17: 2021 | D17: 2020 | E17: % (+;-)
A18: Проведено проверок | C18: ='Республика Алтай (5)'!X4 -> 82 | D18: ='Республика Алтай (5)'!Y4 -> 72 | E18: =C18*100/D18-100 -> 13.888889
A19: Выявлено нарушений закона | C19: ='Республика Алтай (5)'!Z4 -> 187 | D19: ='Республика Алтай (5)'!AA4 -> 177 | E19: =C19*100/D19-100 -> 5.6497175
A20: Принесено протестов | C20: ='Республика Алтай (5)'!AB4 -> 17 | D20: ='Республика Алтай (5)'!AC4 -> 18 | E20: =C20*100/D20-100 -> -5.5555556
A21: Внесено представлений | C21: ='Республика Алтай (5)'!AD4 -> 48 | D21: ='Республика Алтай (5)'!AE4 -> 44 | E21: =C21*100/D21-100 -> 9.0909091
A22: По представлению прокурора привлечено к дисциплинарной ответственности | C22: ='Республика Алтай (5)'!AF4 -> 36 | D22: ='Республика Алтай (5)'!AG4 -> 41 | E22: =C22*100/D22-100 -> -12.195122
B23: удельный вес | C23: =C22/C21*100 -> 75 | D23: =D22/D21*100 -> 93.181818 | E23: =C23*100/D23-100 -> -19.512195
A24: По постановлению прокурора привлечено лиц к административной ответственности | C24: ='Республика Алтай (5)'!AH4 -> 2 | D24: ='Республика Алтай (5)'!AI4 -> 3 | E24: =C24*100/D24-100 -> -33.333333

Sheet Республика Алтай (6)
A1: январь-май 2021
B3: Форма 199 раздел 01 стр.9 гр.1 | C3: - показатель АППГ | D3: Форма 199 раздел 01 стр.10 гр.1 | E3: - показатель АППГ | F3: Форма 199 раздел 01 стр.19 гр.1 | G3: - показатель АППГ | H3: Форма 199 раздел 01 стр.21 гр.1 | I3: - показатель АППГ | J3: Форма 199 раздел 02 стр.9 гр.1 | K3: - показатель АППГ | L3: Форма 199 раздел 02 стр.10 гр.1 | M3: - показатель АППГ | N3: Форма 199 раздел 02 стр.20 гр.1 | O3: - показатель АППГ | P3: Форма 199 раздел 02 стр.22 гр.1 | Q3: - показатель АППГ | R3: Форма 199 раздел 02 стр.9 гр.3 | S3: - показатель АППГ | T3: Форма 199 раздел 02 стр.10 гр.3 | U3: - показатель АППГ | V3: Форма 199 раздел 02 стр.20 гр.3 | W3: - показатель АППГ | X3: Форма 199 раздел 02 стр.22 гр.3 | Y3: - показатель АППГ | Z3: Форма 199 раздел 03 стр.9 гр.1 | AA3: - показатель АППГ | AB3: Форма 199 раздел 03 стр.10 гр.1 | AC3: - показатель АППГ | AD3: Форма 199 раздел 03 стр.20 гр.1 | AE3: - показатель АППГ | AF3: Форма 199 раздел 03 стр.22 гр.1 | AG3: - показатель АППГ | AH3: Форма 199 раздел 03 стр.9 гр.2 | AI3: - показатель АППГ | AJ3: Форма 199 раздел 03 стр.20 гр.2 | AK3: - показатель АППГ | AL3: Форма 199 раздел 03 стр.22 гр.2 | AM3: - показатель АППГ | AN3: Форма 199 раздел 05 стр.9 гр.1 | AO3: - показатель АППГ | AP3: Форма 199 раздел 05 стр.17 гр.1 | AQ3: - показатель АППГ | AR3: Форма 199 раздел 04 стр.9 гр.1 | AS3: - показатель АППГ | AT3: Форма 199 раздел 04 стр.17 гр.1 | AU3: - показатель АППГ | AV3: Форма 199 раздел 01 стр.11 гр.1 | AW3: - показатель АППГ | AX3: Форма 199 раздел 01 стр.27 гр.1 | AY3: - показатель АППГ | AZ3: Форма 199 раздел 02 стр.11 гр.1 | BA3: - показатель АППГ | BB3: Форма 199 раздел 02 стр.29 гр.1 | BC3: - показатель АППГ | BD3: Форма 199 раздел 02 стр.11 гр.3 | BE3: - показатель АППГ | BF3: Форма 199 раздел 02 стр.29 гр.3 | BG3: - показатель АППГ | BH3: Форма 199 раздел 03 стр.11 гр.1 | BI3: - показатель АППГ | BJ3: Форма 199 раздел 03 стр.29 гр.1 | BK3: - показатель АППГ | BL3: Форма 199 раздел 03 стр.11 гр.2 | BM3: - показатель АППГ | BN3: Форма 199 раздел 03 стр.29 гр.2 | BO3: - показатель АППГ | BP3: Форма 199 раздел 05 стр.10 гр.1 | BQ3: - показатель АППГ | BR3: Форма 199 раздел 05 стр.24 гр.1 | BS3: - показатель АППГ | BT3: Форма 199 раздел 04 стр.10 гр.1 | BU3: - показатель АППГ | BV3: Форма 199 раздел 04 стр.24 гр.1 | BW3: - показатель АППГ | BX3: Форма 199 раздел 01 стр.36 гр.1 | BY3: - показатель АППГ | BZ3: Форма 199 раздел 02 стр.38 гр.1 | CA3: - показатель АППГ | CB3: Форма 199 раздел 02 стр.38 гр.3 | CC3: - показатель АППГ | CD3: Форма 199 раздел 03 стр.38 гр.1 | CE3: - показатель АППГ | CF3: Форма 199 раздел 03 стр.38 гр.2 | CG3: - показатель АППГ | CH3: Форма 199 раздел 05 стр.33 гр.1 | CI3: - показатель АППГ | CJ3: Форма 199 раздел 04 стр.33 гр.1 | CK3: - показатель АППГ | CL3: Форма 199 раздел 01 стр.13 гр.1 | CM3: - показатель АППГ | CN3: Форма 199 раздел 02 стр.16 гр.1 | CO3: - показатель АППГ | CP3: Форма 199 раздел 02 стр.16 гр.3 | CQ3: - показатель АППГ | CR3: Форма 199 раздел 03 стр.16 гр.1 | CS3: - показатель АППГ | CT3: Форма 199 раздел 03 стр.16 гр.2 | CU3: - показатель АППГ | CV3: Форма 199 раздел 05 стр.15 гр.1 | CW3: - показатель АППГ | CX3: Форма 199 раздел 04 стр.15 гр.1 | CY3: - показатель АППГ | CZ3: Форма 199 раздел 01 стр.25 гр.1 | DA3: - показатель АППГ | DB3: Форма 199 раздел 02 стр.26 гр.1 | DC3: - показатель АППГ | DD3: Форма 199 раздел 02 стр.26 гр.3 | DE3: - показатель АППГ | DF3: Форма 199 раздел 03 стр.26 гр.1 | DG3: - показатель АППГ | DH3: Форма 199 раздел 03 стр.26 гр.2 | DI3: - показатель АППГ | DJ3: Форма 199 раздел 05 стр.21 гр.1 | DK3: - показатель АППГ | DL3: Форма 199 раздел 04 стр.21 гр.1 | DM3: - показатель АППГ | DN3: Форма 199 раздел 01 стр.41 гр.1 | DO3: - показатель АППГ | DP3: Форма 199 раздел 02 стр.42 гр.1 | DQ3: - показатель АППГ | DR3: Форма 199 раздел 02 стр.42 гр.3 | DS3: - показатель АППГ | DT3: Форма 199 раздел 03 стр.42 гр.1 | DU3: - показатель АППГ | DV3: Форма 199 раздел 03 стр.42 гр.2 | DW3: - показатель АППГ | DX3: Форма 199 раздел 04 стр.36 гр.1 | DY3: - показатель АППГ | DZ3: Форма 199 раздел 05 стр.36 гр.1 | EA3: - показатель АППГ | EB3: Форма 199 раздел 01 стр.44 гр.1 | EC3: - показатель АППГ | ED3: Форма 199 раздел 02 стр.45 гр.1 | EE3: - показатель АППГ | EF3: Форма 199 раздел 02 стр.45 гр.3 | EG3: - показатель АППГ | EH3: Форма 199 раздел 03 стр.45 гр.1 | EI3: - показатель АППГ | EJ3: Форма 199 раздел 03 стр.45 гр.2 | EK3: - показатель АППГ | EL3: Форма 199 раздел 04 стр.38 гр.1 | EM3: - показатель АППГ | EN3: Форма 199 раздел 05 стр.38 гр.1 | EO3: - показатель АППГ
A4: Республика Алтай | B4: 96 | C4: 115 | D4: 2 | E4: 2 | F4: 0 | G4: 0 | H4: 1 | I4: 15 | J4: 453 | K4: 419 | L4: 7 | M4: 8 | N4: 6 | O4: 6 | P4: 15 | Q4: 38 | R4: 454 | S4: 354 | T4: 0 | U4: 0 | V4: 3 | W4: 0 | X4: 38 | Y4: 37 | Z4: 1 | AA4: 0 | AB4: 1 | AC4: 1 | AD4: 0 | AE4: 0 | AF4: 0 | AG4: 0 | AH4: 0 | AI4: 0 | AJ4: 0 | AK4: 0 | AL4: 0 | AM4: 0 | AN4: 1 | AO4: 2 | AP4: 0 | AQ4: 0 | AR4: 56 | AS4: 35 | AT4: 0 | AU4: 0 | AV4: 0 | AW4: 0 | AX4: 53 | AY4: 31 | AZ4: 0 | BA4: 0 | BB4: 7 | BC4: 16 | BD4: 0 | BE4: 24 | BF4: 175 | BG4: 104 | BH4: 0 | BI4: 0 | BJ4: 0 | BK4: 1 | BL4: 0 | BM4: 0 | BN4: 0 | BO4: 0 | BP4: 0 | BQ4: 0 | BR4: 0 | BS4: 0 | BT4: 0 | BU4: 0 | BV4: 0 | BW4: 1 | BX4: 37 | BY4: 40 | BZ4: 72 | CA4: 95 | CB4: 58 | CC4: 38 | CD4: 1 | CE4: 2 | CF4: 0 | CG4: 0 | CH4: 0 | CI4: 0 | CJ4: 0 | CK4: 2 | CL4: 2 | CM4: 2 | CN4: 18 | CO4: 33 | CP4: 13 | CQ4: 7 | CR4: 0 | CS4: 0 | CT4: 0 | CU4: 0 | CV4: 0 | CW4: 0 | CX4: 0 | CY4: 0 | CZ4: 0 | DA4: 1 | DB4: 4 | DC4: 5 | DD4: 0 | DE4: 0 | DF4: 0 | DG4: 1 | DH4: 0 | DI4: 0 | DJ4: 0 | DK4: 0 | DL4: 0 | DM4: 0 | DN4: 0 | DO4: 0 | DP4: 0 | DQ4: 0 | DR4: 0 | DS4: 0 | DT4: 0 | DU4: 1 | DV4: 0 | DW4: 0 | DX4: 0 | DY4: 0 | DZ4: 0 | EA4: 0 | EB4: 0 | EC4: 0 | ED4: 0 | EE4: 0 | EF4: 0 | EG4: 0 | EH4: 0 | EI4: 0 | EJ4: 0 | EK4: 0 | EL4: 0 | EM4: 0 | EN4: 0 | EO4: 0

Sheet Республика Алтай 6
A1: за январь-июль 2021 года
A2: Результаты следственной работы и дознания
A3: Наименование показателя | C3: 2021 | D3: 2020 | E3: % (+;-)
A4: Направлено в суд уголовных дел СК России | C4: ='Республика Алтай (6)'!B4+'Республика Алтай (6)'!D4+'Республика Алтай (6)'!F4+'Республика Алтай (6)'!H4 -> 99 | D4: ='Республика Алтай (6)'!C4+'Республика Алтай (6)'!E4+'Республика Алтай (6)'!G4+'Республика Алтай (6)'!I4 -> 132 | E4: =C4*100/D4-100 -> -25
A5: Направлено в суд уголовных дел МВД следствие | C5: ='Республика Алтай (6)'!J4+'Республика Алтай (6)'!L4+'Республика Алтай (6)'!N4+'Республика Алтай (6)'!P4 -> 481 | D5: ='Республика Алтай (6)'!K4+'Республика Алтай (6)'!M4+'Республика Алтай (6)'!O4+'Республика Алтай (6)'!Q4 -> 471 | E5: =C5*100/D5-100 -> 2.1231423
A6: Направлено в суд уголовных дел МВД дознание | C6: ='Республика Алтай (6)'!R4+'Республика Алтай (6)'!T4+'Республика Алтай (6)'!V4+'Республика Алтай (6)'!X4 -> 495 | D6: ='Республика Алтай (6)'!S4+'Республика Алтай (6)'!U4+'Республика Алтай (6)'!W4+'Республика Алтай (6)'!Y4 -> 391 | E6: =C6*100/D6-100 -> 26.598465
A7: Направлено в суд уголовных дел ФСБ | C7: ='Республика Алтай (6)'!Z4+'Республика Алтай (6)'!AB4+'Республика Алтай (6)'!AD4+'Республика Алтай (6)'!AF4 -> 2 | D7: ='Республика Алтай (6)'!AA4+'Республика Алтай (6)'!AC4+'Республика Алтай (6)'!AE4+'Республика Алтай (6)'!AG4 -> 1 | E7: =C7*100/D7-100 -> 100
A8: Направлено в суд уголовных дел ПУ ФСБ | C8: ='Республика Алтай (6)'!AH4+'Республика Алтай (6)'!AJ4+'Республика Алтай (6)'!AL4 -> 0 | D8: ='Республика Алтай (6)'!AI4+'Республика Алтай (6)'!AK4+'Республика Алтай (6)'!AM4 -> 0 | E8: ***
A9: Направлено в суд уголовных дел ФССП | C9: ='Республика Алтай (6)'!AR4+'Республика Алтай (6)'!AT4 -> 56 | D9: ='Республика Алтай (6)'!AS4+'Республика Алтай (6)'!AU4 -> 35 | E9: =C9*100/D9-100 -> 60
A10: Направлено в суд уголовных дел МЧС | C10: ='Республика Алтай (6)'!AN4+'Республика Алтай (6)'!AP4 -> 1 | D10: ='Республика Алтай (6)'!AO4+'Республика Алтай (6)'!AQ4 -> 2 | E10: =C10*100/D10-100 -> -50
A12: Прекращено уголовных дел СК России | C12: ='Республика Алтай (6)'!AV4+'Республика Алтай (6)'!AX4 -> 53 | D12: ='Республика Алтай (6)'!AW4+'Республика Алтай (6)'!AY4 -> 31 | E12: =C12*100/D12-100 -> 70.967742
A13: Прекращено уголовных дел МВД следствие | C13: ='Республика Алтай (6)'!AZ4+'Республика Алтай (6)'!BB4 -> 7 | D13: ='Республика Алтай (6)'!BA4+'Республика Алтай (6)'!BC4 -> 16 | E13: =C13*100/D13-100 -> -56.25
A14: Прекращено уголовных дел МВД дознание | C14: ='Республика Алтай (6)'!BD4+'Республика Алтай (6)'!BF4 -> 175 | D14: ='Республика Алтай (6)'!BE4+'Республика Алтай (6)'!BG4 -> 128 | E14: =C14*100/D14-100 -> 36.71875
A15: Прекращено уголовных дел ФСБ | C15: ='Республика Алтай (6)'!BH4+'Республика Алтай (6)'!BJ4 -> 0 | D15: ='Республика Алтай (6)'!BI4+'Республика Алтай (6)'!BK4 -> 1 | E15: =C15*100/D15-100 -> -100
A16: Прекращено уголовных дел ПУ ФСБ | C16: ='Республика Алтай (6)'!BL4+'Республика Алтай (6)'!BN4 -> 0 | D16: ='Республика Алтай (6)'!BM4+'Республика Алтай (6)'!BO4 -> 0 | E16: ***
A17: Прекращено уголовных дел ФССП | C17: ='Республика Алтай (6)'!BT4+'Республика Алтай (6)'!BV4 -> 0 | D17: ='Республика Алтай (6)'!BU4+'Республика Алтай (6)'!BW4 -> 1 | E17: =C17*100/D17-100 -> -100
A18: Прекращено уголовных дел МЧС | C18: ='Республика Алтай (6)'!BP4+'Республика Алтай (6)'!BR4 -> 0 | D18: ='Республика Алтай (6)'!BQ4+'Республика Алтай (6)'!BS4 -> 0 | E18: ***
A20: Расследовано дел с нарушенным сроком СК России | C20: ='Республика Алтай (6)'!BX4 -> 37 | D20: ='Республика Алтай (6)'!BY4 -> 40 | E20: =C20*100/D20-100 -> -7.5
A21: Расследовано дел с нарушенным сроком МВД следствие | C21: ='Республика Алтай (6)'!BZ4 -> 72 | D21: ='Республика Алтай (6)'!CA4 -> 95 | E21: =C21*100/D21-100 -> -24.210526
A22: Расследовано дел с нарушенным сроком МВД дознание | C22: ='Республика Алтай (6)'!CB4 -> 58 | D22: ='Республика Алтай (6)'!CC4 -> 38 | E22: =C22*100/D22-100 -> 52.631579
A23: Расследовано дел с нарушенным сроком ФСБ | C23: ='Республика Алтай (6)'!CD4 -> 1 | D23: ='Республика Алтай (6)'!CE4 -> 2 | E23: =C23*100/D23-100 -> -50
A24: Расследовано дел с нарушенным сроком ПУ ФСБ | C24: ='Республика Алтай (6)'!CF4 -> 0 | D24: ='Республика Алтай (6)'!CG4 -> 0 | E24: ***
A25: Расследовано дел с нарушенным сроком ФССП | C25: ='Республика Алтай (6)'!CJ4 -> 0 | D25: ='Республика Алтай (6)'!CK4 -> 2 | E25: =C25*100/D25-100 -> -100
A26: Расследовано дел с нарушенным сроком МЧС | C26: ='Республика Алтай (6)'!CH4 -> 0 | D26: ='Республика Алтай (6)'!CI4 -> 0 | E26: ***
A28: Возвращено уголовных дел прокурором в СК России | C28: ='Республика Алтай (6)'!CL4 -> 2 | D28: ='Республика Алтай (6)'!CM4 -> 2 | E28: =C28*100/D28-100 -> 0
A29: Возвращено уголовных дел прокурором в МВД следствие | C29: ='Республика Алтай (6)'!CN4 -> 18 | D29: ='Республика Алтай (6)'!CO4 -> 33 | E29: =C29*100/D29-100 -> -45.454545
A30: Возвращено уголовных дел прокурором в МВД дознание | C30: ='Республика Алтай (6)'!CP4 -> 13 | D30: ='Республика Алтай (6)'!CQ4 -> 7 | E30: =C30*100/D30-100 -> 85.714286
A31: Возвращено уголовных дел прокурором в ФСБ | C31: ='Республика Алтай (6)'!CR4 -> 0 | D31: ='Республика Алтай (6)'!CS4 -> 0 | E31: ***
A32: Возвращено уголовных дел прокурором в ПУ ФСБ | C32: ='Республика Алтай (6)'!CT4 -> 0 | D32: ='Республика Алтай (6)'!CU4 -> 0 | E32: ***
A33: Возвращено уголовных дел прокурором в ФССП | C33: ='Республика Алтай (6)'!CX4 -> 0 | D33: ='Республика Алтай (6)'!CY4 -> 0 | E33: ***
A34: Возвращено уголовных дел прокурором в МЧС | C34: ='Республика Алтай (6)'!CV4 -> 0 | D34: ='Республика Алтай (6)'!CW4 -> 0 | E34: ***
A36: Поступило прокурору дел в порядке ст. 237 УПК РФ (СК) | C36: ='Республика Алтай (6)'!CZ4 -> 0 | D36: ='Республика Алтай (6)'!DA4 -> 1 | E36: =C36*100/D36-100 -> -100
A37: Поступило прокурору дел в порядке ст. 237 УПК РФ (МВД следствие) | C37: ='Республика Алтай (6)'!DB4 -> 4 | D37: ='Республика Алтай (6)'!DC4 -> 5 | E37: =C37*100/D37-100 -> -20
A38: Поступило прокурору дел в порядке ст. 237 УПК РФ (МВД дознание) | C38: ='Республика Алтай (6)'!DD4 -> 0 | D38: ='Республика Алтай (6)'!DE4 -> 0 | E38: ***
A39: Поступило прокурору дел в порядке ст. 237 УПК РФ (ФСБ) | C39: ='Республика Алтай (6)'!DF4 -> 0 | D39: ='Республика Алтай (6)'!DG4 -> 1 | E39: =C39*100/D39-100 -> -100
A40: Поступило прокурору дел в порядке ст. 237 УПК РФ (ПУ ФСБ) | C40: ='Республика Алтай (6)'!DH4 -> 0 | D40: ='Республика Алтай (6)'!DI4 -> 0 | E40: ***
A41: Поступило прокурору дел в порядке ст. 237 УПК РФ (ФССП) | C41: ='Республика Алтай (6)'!DL4 -> 0 | D41: ='Республика Алтай (6)'!DM4 -> 0 | E41: ***
A42: Поступило прокурору дел в порядке ст. 237 УПК РФ (МЧС) | C42: ='Республика Алтай (6)'!DJ4 -> 0 | D42: ='Республика Алтай (6)'!DK4 -> 0 | E42: ***
A44: ВСЕГО Направлено в суд уголовных дел | C44: =SUM(C4:C10) -> 1134 | D44: =SUM(D4:D10) -> 1032 | E44: =C44*100/D44-100 -> 9.8837209
A45: ВСЕГО Прекращено уголовных дел | C45: =SUM(C12:C18) -> 235 | D45: =SUM(D12:D18) -> 177 | E45: =C45*100/D45-100 -> 32.768362
...
