Workbook
Name Основные_20результаты_20работы_202011_2012_20квартал: 'Республика Алтай'!$A$3:$E$77

Sheet Республика Алтай
A1: Республика Алтай | B1: 14397 | C1: 13259 | D1: 2066 | E1: 1961 | F1: 1942 | G1: 1776 | H1: 1245 | I1: 1189 | J1: 1288 | K1: 1061 | L1: 3137 | M1: 2618 | N1: 1710 | O1: 1435 | P1: 430 | Q1: 340 | R1: 190 | S1: 96 | T1: 52 | U1: 58 | V1: 51 | W1: 46 | X1: 4220 | Y1: 3671 | Z1: 784 | AA1: 739 | AB1: 765 | AC1: 686 | AD1: 142 | AE1: 56 | AF1: 191 | AG1: 65 | AH1: 965 | AI1: 741 | AJ1: 502 | AK1: 296 | AL1: 59 | AM1: 55 | AN1: 67 | AO1: 22 | AP1: 11 | AQ1: 14 | AR1: 12 | AS1: 8 | AT1: 1856 | AU1: 1556 | AV1: 127 | AW1: 124 | AX1: 113 | AY1: 117 | AZ1: 167 | BA1: 160 | BB1: 139 | BC1: 133 | BD1: 472 | BE1: 310 | BF1: 184 | BG1: 139 | BH1: 71 | BI1: 45 | BJ1: 26 | BK1: 21 | BL1: 24 | BM1: 20 | BN1: 23 | BO1: 19 | BP1: 7222 | BQ1: 7072 | BR1: 933 | BS1: 969 | BT1: 847 | BU1: 856 | BV1: 905 | BW1: 968 | BX1: 918 | BY1: 862 | BZ1: 1454 | CA1: 1307 | CB1: 774 | CC1: 689 | CD1: 258 | CE1: 199 | CF1: 94 | CG1: 53 | CH1: 10 | CI1: 13 | CJ1: 10 | CK1: 8 | CL1: 435 | CM1: 525 | CN1: 46 | CO1: 21 | CP1: 44 | CQ1: 16 | CR1: 133 | CS1: 323 | CT1: 130 | CU1: 306 | CV1: 91 | CW1: 67 | CX1: 36 | CY1: 39 | CZ1: 23 | DA1: 22 | DB1: 6 | DC1: 8 | DD1: 0 | DE1: 2 | DF1: 0 | DG1: 1 | DH1: 1378 | DI1: 1203 | DJ1: 71 | DK1: 65 | DL1: 79 | DM1: 51 | DN1: 104 | DO1: 78 | DP1: 119 | DQ1: 1\1\120 | DR1: 1\1\121 | DS1: 1\1\122 | DT1: 1\1\123 | DU1: 1\1\124 | DV1: 1\1\125 | DW1: 1\1\126 | DX1: 1\1\127 | DY1: 1\1\128 | DZ1: 1\1\129 | EA1: 1\1\130 | EB1: 1\1\131 | EC1: 1\1\132 | ED1: 1\1\133 | EE1: 1\1\134 | EF1: 1\1\135 | EG1: 1\1\136 | EH1: 1\1\137 | EI1: 1\1\138 | EJ1: 1\1\139 | EK1: 1\1\140 | EL1: 1\1\141 | EM1: 1\1\142 | EN1: 1\1\143 | EO1: 1\1\144 | EP1: 1\1\145 | EQ1: 1\1\146 | ER1: 1\1\147 | ES1: 22 | ET1: 40 | EU1: 13 | EV1: 0 | EW1: 0 | EX1: 0 | EY1: 0 | EZ1: 2261 | FA1: 2016 | FB1: 251 | FC1: 210 | FD1: 216 | FE1: 186 | FF1: 288 | FG1: 259 | FH1: 301 | FI1: 260 | FJ1: 468 | FK1: 403 | FL1: 286 | FM1: 288 | FN1: 44 | FO1: 42 | FP1: 14 | FQ1: 5 | FR1: 7 | FS1: 4 | FT1: 7 | FU1: 4 | FV1: 4270 | FW1: 4219 | FX1: 2769 | FY1: 2819 | FZ1: 1501 | GA1: 1400 | GB1: 657 | GC1: 586 | GD1: 633 | GE1: 574 | GF1: 16 | GG1: 13 | GH1: 17 | GI1: 11 | GJ1: 119 | GK1: 105 | GL1: 219 | GM1: 198 | GN1: 131 | GO1: 116 | GP1: 41 | GQ1: 93 | GR1: 1590 | GS1: 1671 | GT1: 207 | GU1: 187 | GV1: 8 | GW1: 14 | GX1: 272 | GY1: 263 | GZ1: 118 | HA1: 1\1\208 | HB1: 1\1\209 | HC1: 1\1\210 | HD1: 1\1\211 | HE1: 1\1\212 | HF1: 1\1\213 | HG1: 1\1\214 | HH1: 1\1\215 | HI1: 1\1\216 | HJ1: 1\1\217 | HK1: 1\1\218 | HL1: 1\1\219 | HM1: 1\1\220 | HN1: 1\1\221 | HO1: 1\1\222 | HP1: 1\1\223 | HQ1: 1\1\224 | HR1: 1\1\225 | HS1: 1\1\226 | HT1: 1\1\227 | HU1: 1\1\228 | HV1: 1\1\229 | HW1: 1\1\230 | HX1: 1\1\231 | HY1: 1\1\232 | HZ1: 1\1\233 | IA1: 1\1\234 | IB1: 1\1\235 | IC1: 1\1\236 | ID1: 1\1\237 | IE1: 1\1\238 | IF1: 1\1\239 | IG1: 1\1\240 | IH1: 1\1\241 | II1: 1\1\242 | IJ1: 1\1\243 | IK1: 1\1\244 | IL1: 1\1\245 | IM1: 1\1\246 | IN1: 1\1\247 | IO1: 1\1\248 | IP1: 1\1\249 | IQ1: 1\1\250 | IR1: 1\1\251 | IS1: 1\1\252 | IT1: 1\1\253 | IU1: 1\1\254 | IV1: 1\1\255 | IW1: 1\1\256 | IX1: 1\1\257 | IY1: 1\1\258 | IZ1: 1\1\259 | JA1: 1\1\260 | JB1: 1\1\261 | JC1: 1\1\262 | JD1: 1\1\263 | JE1: 1\1\264 | JF1: 1\1\265 | JG1: 1\1\266 | JH1: 1\1\267 | JI1: 1\1\268 | JJ1: 1\1\269 | JK1: 1\1\270 | JL1: 1\1\271 | JM1: 1\1\272
A3: Основные результаты прокурорской деятельности (ежемесячно) Приложение № 1
A4: за январь - июль 2020 года
A5: Республика Алтай
A7: Надзор за исполнением федерального законодательства (строка 1)
A8: Наименование показателя | C8: 2020 | D8: 2019 | E8: % (+;-)
A9: Выявлено нарушений закона | C9: =B1 -> 14397 | D9: =C1 -> 13259 | E9: =C9*100/D9-100 -> 8.5828494
A10: Принесено протестов | C10: =D1 -> 2066 | D10: =E1 -> 1961 | E10: =C10*100/D10-100 -> 5.354411
A11: По удовлетворенным протестам отменено и изменено незаконных правовых актов | C11: =F1 -> 1942 | D11: =G1 -> 1776 | E11: =C11*100/D11-100 -> 9.3468468
A12: Направлено исков, заявлений в суд | C12: =H1 -> 1245 | D12: =I1 -> 1189 | E12: =C12*100/D12-100 -> 4.7098402
A13: Удовлетворено исков и прекращено дел ввиду добровольного удовлетворения требований прокурора | C13: =J1 -> 1288 | D13: =K1 -> 1061 | E13: =C13*100/D13-100 -> 21.39491
A14: Внесено представлений | C14: =L1 -> 3137 | D14: =M1 -> 2618 | E14: =C14*100/D14-100 -> 19.824293
A15: К дисциплинарной ответственности привлечено лиц | C15: =N1 -> 1710 | D15: =O1 -> 1435 | E15: =C15*100/D15-100 -> 19.163763
B16: удельный вес | C16: =C15/C14*100 -> 54.510679 | D16: =D15/D14*100 -> 54.812834 | E16: =C16*100/D16-100 -> -0.55124906
A17: По постановлению прокурора привлечено лиц к административной ответственности | C17: =P1 -> 430 | D17: =Q1 -> 340 | E17: =C17*100/D17-100 -> 26.470588
A18: Предостережено лиц о недопустимости нарушения закона | C18: =R1 -> 190 | D18: =S1 -> 96 | E18: =C18*100/D18-100 -> 97.916667
A19: Направлено материалов для решения вопроса об уголовном преследовании в порядке п. 2 ч. 2 ст. 37 УПК РФ | C19: =T1 -> 52 | D19: =U1 -> 58 | E19: =C19*100/D19-100 -> -10.344828
A20: Возбуждено уголовных дел | C20: =V1 -> 51 | D20: =W1 -> 46 | E20: =C20*100/D20-100 -> 10.869565
A21: Надзор за исполнением законов в сфере экономики (строка 2)
A22: Наименование показателя | C22: 2020 | D22: 2019 | E22: % (+;-)
A23: Выявлено нарушений закона | C23: =X1 -> 4220 | D23: =Y1 -> 3671 | E23: =C23*100/D23-100 -> 14.955053
A24: Принесено протестов | C24: =Z1 -> 784 | D24: =AA1 -> 739 | E24: =C24*100/D24-100 -> 6.0893099
A25: По удовлетворенным протестам отменено и изменено незаконных правовых актов | C25: =AB1 -> 765 | D25: =AC1 -> 686 | E25: =C25*100/D25-100 -> 11.516035
A26: Направлено исков, заявлений в суд | C26: =AD1 -> 142 | D26: =AE1 -> 56 | E26: =C26*100/D26-100 -> 153.57143
A27: Удовлетворено исков и прекращено дел ввиду добровольного удовлетворения требований прокурора | C27: =AF1 -> 191 | D27: =AG1 -> 65 | E27: =C27*100/D27-100 -> 193.84615
A28: Внесено представлений | C28: =AH1 -> 965 | D28: =AI1 -> 741 | E28: =C28*100/D28-100 -> 30.22942
A29: К дисциплинарной ответственности привлечено лиц | C29: =AJ1 -> 502 | D29: =AK1 -> 296 | E29: =C29*100/D29-100 -> 69.594595
B30: удельный вес | C30: =C29/C28*100 -> 52.020725 | D30: =D29/D28*100 -> 39.946019 | E30: =C30*100/D30-100 -> 30.227559
A31: По постановлению прокурора привлечено лиц к административной ответственности | C31: =AL1 -> 59 | D31: =AM1 -> 55 | E31: =C31*100/D31-100 -> 7.2727273
A32: Предостережено лиц о недопустимости нарушения закона | C32: =AN1 -> 67 | D32: =AO1 -> 22 | E32: =C32*100/D32-100 -> 204.54545
A33: Направлено материалов для решения вопроса об уголовном преследовании в порядке п. 2 ч. 2 ст. 37 УПК РФ | C33: =AP1 -> 11 | D33: =AQ1 -> 14 | E33: =C33*100/D33-100 -> -21.428571
A34: Возбуждено уголовных дел | C34: =AR1 -> 12 | D34: =AS1 -> 8 | E34: =C34*100/D34-100 -> 50
A35: за январь-июль 2020 года
A36: Надзор в сфере охраны окружающей среды и природопользования (строка 7)
A37: Наименование показателя | C37: 2020 | D37: 2019 | E37: % (+;-)
A38: Выявлено нарушений закона | C38: =AT1 -> 1856 | D38: =AU1 -> 1556 | E38: =C38*100/D38-100 -> 19.280206
A39: Принесено протестов | C39: =AV1 -> 127 | D39: =AW1 -> 124 | E39: =C39*100/D39-100 -> 2.4193548
A40: По удовлетворенным протестам отменено и изменено незаконных правовых актов | C40: =AX1 -> 113 | D40: =AY1 -> 117 | E40: =C40*100/D40-100 -> -3.4188034
A41: Направлено исков, заявлений в суд | C41: =AZ1 -> 167 | D41: =BA1 -> 160 | E41: =C41*100/D41-100 -> 4.375
A42: Удовлетворено исков и прекращено дел ввиду добровольного удовлетворения требований прокурора | C42: =BB1 -> 139 | D42: =BC1 -> 133 | E42: =C42*100/D42-100 -> 4.5112782
...

Sheet Лист2
A1: 7 мес 2019 | B1: СК, МВД (следствие и дознание) | C1: ФСБ | D1: ФССП | E1: МЧС | F1: Игого
A2: ВСЕГО Направлено в суд уголовных дел | B2: ='Республика Алтай'!D161+'Республика Алтай'!D162+'Республика Алтай'!D163 -> 1306 | C2: 1 | D2: 101 | E2: 0 | F2: =SUM(B2:E2) -> 1408
A3: ВСЕГО Прекращено уголовных дел | B3: ='Республика Алтай'!D165+'Республика Алтай'!D166+'Республика Алтай'!D167 -> 297 | C3: 0 | D3: 2 | E3: 0 | F3: =SUM(B3:E3) -> 299
A4: ВСЕГО расследовано уголовных дел с нарушенным сроком | B4: ='Республика Алтай'!D169+'Республика Алтай'!D170+'Республика Алтай'!D171 -> 211 | C4: 2 | D4: 5 | E4: 0 | F4: =SUM(B4:E4) -> 218
A5: ВСЕГО возвращено уголовных дел прокурором | B5: ='Республика Алтай'!D173+'Республика Алтай'!D174+'Республика Алтай'!D175 -> 52 | C5: 1 | D5: 2 | E5: 0 | F5: =SUM(B5:E5) -> 55
A6: ВСЕГО поступило прокурору дел в порядке ст. 237 УПК РФ | B6: ='Республика Алтай'!D177+'Республика Алтай'!D178+'Республика Алтай'!D179 -> 8 | C6: 0 | D6: 2 | E6: 0 | F6: =SUM(B6:E6) -> 10
A10: 7 мес 2020 | B10: СК, МВД (следствие и дознание) | C10: ФСБ | D10: ФССП | E10: МЧС | F10: Игого
A11: ВСЕГО Направлено в суд уголовных дел | B11: ='Республика Алтай'!C161+'Республика Алтай'!C162+'Республика Алтай'!C163 -> 1404 | C11: 2 | D11: 67 | E11: 3 | F11: =SUM(B11:E11) -> 1476
A12: ВСЕГО Прекращено уголовных дел | B12: ='Республика Алтай'!C165+'Республика Алтай'!C166+'Республика Алтай'!C167 -> 277 | C12: 1 | D12: 1 | E12: 0 | F12: =SUM(B12:E12) -> 279
A13: ВСЕГО расследовано уголовных дел с нарушенным сроком | B13: ='Республика Алтай'!C169+'Республика Алтай'!C170+'Республика Алтай'!C171 -> 243 | C13: 3 | D13: 3 | E13: 0 | F13: =SUM(B13:E13) -> 249
A14: ВСЕГО возвращено уголовных дел прокурором | B14: ='Республика Алтай'!C173+'Республика Алтай'!C174+'Республика Алтай'!C175 -> 59 | C14: 0 | D14: 0 | E14: 0 | F14: =SUM(B14:E14) -> 59
A15: ВСЕГО поступило прокурору дел в порядке ст. 237 УПК РФ | B15: ='Республика Алтай'!C177+'Республика Алтай'!C178+'Республика Алтай'!C179 -> 9 | C15: 1 | D15: 0 | E15: 0 | F15: =SUM(B15:E15) -> 10

Sheet Лист3
